BEGIN:VCALENDAR
VERSION:2.0
PRODID:-//Tripartite Forum - ECPv6.13.2.1//NONSGML v1.0//EN
CALSCALE:GREGORIAN
METHOD:PUBLISH
X-ORIGINAL-URL:https://tripartiteforum.pinwheeldesign.ca
X-WR-CALDESC:Events for Tripartite Forum
REFRESH-INTERVAL;VALUE=DURATION:PT1H
X-Robots-Tag:noindex
X-PUBLISHED-TTL:PT1H
BEGIN:VTIMEZONE
TZID:America/Halifax
BEGIN:DAYLIGHT
TZOFFSETFROM:-0400
TZOFFSETTO:-0300
TZNAME:ADT
DTSTART:20180311T060000
END:DAYLIGHT
BEGIN:STANDARD
TZOFFSETFROM:-0300
TZOFFSETTO:-0400
TZNAME:AST
DTSTART:20181104T050000
END:STANDARD
END:VTIMEZONE
BEGIN:VEVENT
DTSTART;VALUE=DATE:20180828
DTEND;VALUE=DATE:20180829
DTSTAMP:20260425T122338
CREATED:20180713T122614Z
LAST-MODIFIED:20180713T123705Z
UID:904-1535414400-1535500799@tripartiteforum.pinwheeldesign.ca
SUMMARY:Health Working Committee
DESCRIPTION:
URL:https://tripartiteforum.pinwheeldesign.ca/event/health-working-committee/
LOCATION:Acadia First Nation\, 1704 Hammonds Plains Rd\, Hammonds Plains\, Nova Scotia\, B4B 1P5\, Canada
CATEGORIES:Meetings
ORGANIZER;CN="Tripartite Forum":MAILTO:rebecca@tripartiteforum.pinwheeldesign.ca
END:VEVENT
BEGIN:VEVENT
DTSTART;VALUE=DATE:20180823
DTEND;VALUE=DATE:20180824
DTSTAMP:20260425T122338
CREATED:20180713T122400Z
LAST-MODIFIED:20180713T123643Z
UID:901-1534982400-1535068799@tripartiteforum.pinwheeldesign.ca
SUMMARY:Sports and Recreation Working Committee
DESCRIPTION:
URL:https://tripartiteforum.pinwheeldesign.ca/event/sports-and-recreation-working-committee/
LOCATION:Eskasoni First Nation\, 63 Mini Mall Drive\, Eskasoni\, Nova Scotia\, B1W 1A6\, Canada
CATEGORIES:Meetings
ORGANIZER;CN="Tripartite Forum":MAILTO:rebecca@tripartiteforum.pinwheeldesign.ca
END:VEVENT
BEGIN:VEVENT
DTSTART;VALUE=DATE:20180720
DTEND;VALUE=DATE:20180808
DTSTAMP:20260425T122338
CREATED:20180712T173722Z
LAST-MODIFIED:20180713T123718Z
UID:705-1532044800-1533686399@tripartiteforum.pinwheeldesign.ca
SUMMARY:Office Shutdown
DESCRIPTION:The office will be closed from July 20 – August 7\, 2018. All inquiries will be handled in a timely and orderly fashion upon return.
URL:https://tripartiteforum.pinwheeldesign.ca/event/office-shutdown/
LOCATION:The Confederacy of Mainland Mi’kmaq\, 57 Martin Crescent\, Truro\, Nova Scotia\, B2N 5V3\, Canada
ORGANIZER;CN="Tripartite Forum":MAILTO:rebecca@tripartiteforum.pinwheeldesign.ca
END:VEVENT
BEGIN:VEVENT
DTSTART;TZID=America/Halifax:20180126T080000
DTEND;TZID=America/Halifax:20180126T170000
DTSTAMP:20260425T122338
CREATED:20180110T183917Z
LAST-MODIFIED:20180110T183917Z
UID:709-1516953600-1516986000@tripartiteforum.pinwheeldesign.ca
SUMMARY:Sample Event
DESCRIPTION:This is a sample event you could add to the events calendar.
URL:https://tripartiteforum.pinwheeldesign.ca/event/sample-event/
LOCATION:The Confederacy of Mainland Mi’kmaq\, 57 Martin Crescent\, Truro\, Nova Scotia\, B2N 5V3\, Canada
ATTACH;FMTTYPE=image/jpeg:https://tripartiteforum.pinwheeldesign.ca/wp-content/uploads/2017/06/Whycocomagh-Waycobah.jpg
ORGANIZER;CN="Tripartite Forum":MAILTO:rebecca@tripartiteforum.pinwheeldesign.ca
END:VEVENT
END:VCALENDAR